BEGIN:VCALENDAR
VERSION:2.0
PRODID:-//ChamberMaster//Event Calendar 2.0//EN
METHOD:PUBLISH
X-PUBLISHED-TTL:P3D
REFRESH-INTERVAL:P3D
CALSCALE:GREGORIAN
BEGIN:VEVENT
DTSTART:20191009T123000Z
DTEND:20191009T133000Z
X-MICROSOFT-CDO-ALLDAYEVENT:FALSE
SUMMARY:Workforce Council
DESCRIPTION:The October Workforce Council will host Eric Burgos\, the Director of the North Carolina National Guard Employment Center. Eric's primary role is to work to build ongoing relationships with local and national employers to assist in the job placement process\; to assist in developing training programs for the candidates\; and connect veterans with civilian training opportunities. Come learn how your company can better access this skilled pool of potential employees. Space is limited. Email Andrea@alamancechamber.com if you would like to attend.
X-ALT-DESC;FMTTYPE=text/html:<p style="margin: 0px\;"><font color="#000000" face="Calibri" size="3">The October Workforce Council will host Eric Burgos\, the Director of the North Carolina National Guard Employment Center. Eric&rsquo\;s primary role is to work to build ongoing relationships with local and national employers to assist in the job placement process\; to assist in developing training programs for the candidates\; and connect veterans with civilian training opportunities. Come learn how your company can better access this skilled pool of potential employees. Space is limited. Email <a>Andrea@alamancechamber.com</a> if you would like to attend. </font></p>\n
LOCATION:Alamance Chamber 610 S. Lexington Avenue Burlington\, NC 27215
UID:e.1268.2418
SEQUENCE:3
DTSTAMP:20260425T144000Z
URL:https://members.alamancechamber.com/events/details/workforce-council-2418
END:VEVENT

END:VCALENDAR
