BEGIN:VCALENDAR
VERSION:2.0
PRODID:-//ChamberMaster//Event Calendar 2.0//EN
METHOD:PUBLISH
X-PUBLISHED-TTL:P3D
REFRESH-INTERVAL:P3D
CALSCALE:GREGORIAN
BEGIN:VEVENT
DTSTART:20230508T213000Z
DTEND:20230508T221500Z
X-MICROSOFT-CDO-ALLDAYEVENT:FALSE
SUMMARY:Small Business Grant Program Information Webinar
DESCRIPTION:Want to learn more about this new program? Have a question about the application process? Join this webinar to learn more and to get your questions answered. This session will be recorded\, and a link will be posted on the Chamber website. While the recording will be useful\, the best way to ensure your questions are answered is to attend the live event.
X-ALT-DESC;FMTTYPE=text/html:Want to learn more about this new program? Have a question about the application process? Join this webinar to learn more and to get your questions answered. This session will be recorded\, and a link will be posted on the Chamber website. While the recording will be useful\, the best way to ensure your questions are answered is to attend the live event.&nbsp\;
LOCATION:This event will be held via Zoom. A link will be sent to all registered participants on Monday morning\, May 8th at 11:00 am.
UID:e.1268.2602
SEQUENCE:3
DTSTAMP:20260422T191157Z
URL:https://members.alamancechamber.com/events/details/small-business-grant-program-information-webinar-2602
END:VEVENT

END:VCALENDAR
