BEGIN:VCALENDAR
VERSION:2.0
PRODID:-//ChamberMaster//Event Calendar 2.0//EN
METHOD:PUBLISH
X-PUBLISHED-TTL:P3D
REFRESH-INTERVAL:P3D
CALSCALE:GREGORIAN
BEGIN:VEVENT
DTSTART;VALUE=DATE:20230630
DTEND;VALUE=DATE:20230701
TRANSP:TRANSPARENT
X-MICROSOFT-CDO-ALLDAYEVENT:TRUE
SUMMARY:Small Business Grant Applications Due Today
DESCRIPTION:If you are applying for our Launch or Growth Grant through our Small Business Grant Program\, your application must be submitted no later than 5:00 pm ET. Any applications received after this date/time will not be considered.
X-ALT-DESC;FMTTYPE=text/html:If you are applying for our Launch or Growth Grant through our <a href="https://www.alamancechamber.com/small-business-grant-program/">Small Business Grant Program</a>\, your application must be submitted no later than 5:00 pm ET. Any applications received after this date/time will not be considered.&nbsp\;
LOCATION:
UID:e.1268.2609
SEQUENCE:3
DTSTAMP:20260422T173614Z
URL:https://members.alamancechamber.com/events/details/small-business-grant-applications-due-today-2609
END:VEVENT

END:VCALENDAR
