BEGIN:VCALENDAR
VERSION:2.0
PRODID:-//ChamberMaster//Event Calendar 2.0//EN
METHOD:PUBLISH
X-PUBLISHED-TTL:P3D
REFRESH-INTERVAL:P3D
CALSCALE:GREGORIAN
BEGIN:VEVENT
DTSTART:20191203T220000Z
DTEND:20191203T233000Z
X-MICROSOFT-CDO-ALLDAYEVENT:FALSE
SUMMARY:Small Business After Hours
DESCRIPTION:Is your business interested in hosting a Business After Hours event\, but you don't have the space at your location? Register today as a co-host for the December Small Business After Hours. This event is an opportunity for small business members to come together as co-hosts in a central location. Co-hosts will be promoted leading up to the event\, and will have the exclusive opportunity to set-up an expo table at the event. Additionally\, co-hosts will have a chance to offer a brief business update during the program AND giveaway a door prize! Co-host registration is available for $175. Limited opportunities available. Co-host registration is currently full. To be added to the waitlist for this opportunity\, email Kelly Roberts (Kelly@alamancechamber.com).\n\n\n\nThank you to our Event Sponsor:\n\nThe Children's Museum of Alamance County\n\n\n\nSmall Business After Hours Co-Hosts:\n\nAlamance County Convention & Visitors Bureau\n\nAlways Best Care Senior Services\n\nCarter Bank & Trust\n\nComTech Network Solutions\n\nConvergence Technologies\n\nGH Home Inspections\n\nHappier Days Private Duty Services\n\nNet Impact Triad\n\nThe Decal Source\n\nubreakifix
X-ALT-DESC;FMTTYPE=text/html:<p><span style="color:#000000\;"><span style="line-height: 107%\; font-family: &quot\;Arial&quot\;\,sans-serif\; font-size: 10.5pt\;">Is your business interested in hosting a Business After Hours event\, but you don&#39\;t have the space at your location? Register today as a co-host for the December Small Business After Hours. This event is an opportunity for small business members to come together as co-hosts in a central location. Co-hosts will be promoted leading up to the event\, and will have the exclusive opportunity to set-up an expo table at the event. Additionally\, co-hosts will have a chance to offer a brief business update during the program AND giveaway a door prize! Co-host registration is available for $175. Limited opportunities available. Co-host registration is currently full. To be added to the waitlist for this opportunity\, email Kelly Roberts (Kelly@alamancechamber.com).<br />\n<br />\n<strong>Thank you to our Event Sponsor:</strong><br />\n<em>The Children&#39\;s Museum of Alamance County</em><br />\n<br />\n<b>Small Business After Hours Co-Hosts:</b><br />\n<em>Alamance County Convention &amp\; Visitors Bureau<br />\nAlways Best Care Senior Services<br />\nCarter Bank &amp\; Trust<br />\nComTech Network Solutions<br />\nConvergence Technologies<br />\nGH Home Inspections<br />\nHappier Days Private Duty Services<br />\nNet Impact Triad<br />\nThe Decal Source<br />\nubreakifix</em></span></span><br />\n<br />\n&nbsp\;</p>\n
LOCATION:Children's Museum of Alamance County 217 South Main Street Graham\, NC 27253
UID:e.1268.2423
SEQUENCE:3
DTSTAMP:20260425T170706Z
URL:https://members.alamancechamber.com/events/details/small-business-after-hours-2423
END:VEVENT

END:VCALENDAR
