BEGIN:VCALENDAR
VERSION:2.0
PRODID:-//ChamberMaster//Event Calendar 2.0//EN
METHOD:PUBLISH
X-PUBLISHED-TTL:P3D
REFRESH-INTERVAL:P3D
CALSCALE:GREGORIAN
BEGIN:VEVENT
DTSTART:20230608T190000Z
DTEND:20230608T200000Z
X-MICROSOFT-CDO-ALLDAYEVENT:FALSE
SUMMARY:Ribbon Cutting: Zacks Hot Dogs (Mebane)
DESCRIPTION:Join us for the Grand Opening / Ribbon Cutting Celebration for Zack's Hot Dogs Mebane!
X-ALT-DESC;FMTTYPE=text/html:Join us for the Grand Opening / Ribbon Cutting Celebration for Zack&#39\;s Hot Dogs Mebane!&nbsp\;
LOCATION:Zack's Hot Dogs (Mebane) 1004 Mebane Oaks Rd.\, Mebane
UID:e.1268.2604
SEQUENCE:3
DTSTAMP:20260422T175825Z
URL:https://members.alamancechamber.com/events/details/ribbon-cutting-zacks-hot-dogs-mebane-2604
END:VEVENT

END:VCALENDAR
