BEGIN:VCALENDAR
VERSION:2.0
PRODID:-//ChamberMaster//Event Calendar 2.0//EN
METHOD:PUBLISH
X-PUBLISHED-TTL:P3D
REFRESH-INTERVAL:P3D
CALSCALE:GREGORIAN
BEGIN:VEVENT
DTSTART:20191107T150000Z
DTEND:20191107T170000Z
X-MICROSOFT-CDO-ALLDAYEVENT:FALSE
SUMMARY:Ribbon Cutting: Well Bred Veterinary Mobile Services
DESCRIPTION:Please join us for a Ribbon Cutting Ceremony to celebrate Well Bred Veterinary Mobile Services. This mobile veterinary service will be traveling to the Alamance Chamber to cut the ribbon!
X-ALT-DESC;FMTTYPE=text/html:Please join us for a Ribbon Cutting Ceremony to celebrate <strong>Well Bred Veterinary Mobile Services</strong>. This <em>mobile </em>veterinary service will be traveling to the Alamance Chamber to cut the ribbon!
LOCATION:Alamance Chamber Office 610 S. Lexington Ave. Burlington\, NC 27215
UID:e.1268.2421
SEQUENCE:3
DTSTAMP:20260425T162445Z
URL:https://members.alamancechamber.com/events/details/ribbon-cutting-well-bred-veterinary-mobile-services-2421
END:VEVENT

END:VCALENDAR
