BEGIN:VCALENDAR
VERSION:2.0
PRODID:-//ChamberMaster//Event Calendar 2.0//EN
METHOD:PUBLISH
X-PUBLISHED-TTL:P3D
REFRESH-INTERVAL:P3D
CALSCALE:GREGORIAN
BEGIN:VEVENT
DTSTART:20191219T210000Z
DTEND:20191219T213000Z
X-MICROSOFT-CDO-ALLDAYEVENT:FALSE
SUMMARY:Ribbon Cutting: Triad Kids Dental
DESCRIPTION:Please join us for a Ribbon Cutting on Thursday\, December 19 at 4:00 PM to celebrate the Grand Opening of Triad Kids Dental!
X-ALT-DESC;FMTTYPE=text/html:Please join us for a Ribbon Cutting on Thursday\, December 19 at 4:00 PM to celebrate the Grand Opening of <strong>Triad Kids Dental</strong>!
LOCATION:Triad Kids Dental 1135 N. Church Street Burlington\, NC 27217
UID:e.1268.2447
SEQUENCE:3
DTSTAMP:20260425T172232Z
URL:https://members.alamancechamber.com/events/details/ribbon-cutting-triad-kids-dental-2447
END:VEVENT

END:VCALENDAR
