BEGIN:VCALENDAR
VERSION:2.0
PRODID:-//ChamberMaster//Event Calendar 2.0//EN
METHOD:PUBLISH
X-PUBLISHED-TTL:P3D
REFRESH-INTERVAL:P3D
CALSCALE:GREGORIAN
BEGIN:VEVENT
DTSTART:20191210T163000Z
DTEND:20191210T170000Z
X-MICROSOFT-CDO-ALLDAYEVENT:FALSE
SUMMARY:Ribbon Cutting: Motel 6 (Burlington)
DESCRIPTION:Please join us for a Ribbon Cutting Ceremony to celebrate the Grand Re-Opening of Motel 6 (Burlington) on Tuesday\, December 10 at 11:30 a.m.
X-ALT-DESC;FMTTYPE=text/html:Please join us for a Ribbon Cutting Ceremony to celebrate the Grand Re-Opening of <strong>Motel 6 (Burlington)</strong> on Tuesday\, December 10 at 11:30 a.m.
LOCATION:Motel 6 (Burlington) 978 Plantation Drive Burlington\, NC 27215
UID:e.1268.2425
SEQUENCE:3
DTSTAMP:20260425T170830Z
URL:https://members.alamancechamber.com/events/details/ribbon-cutting-motel-6-burlington-2425
END:VEVENT

END:VCALENDAR
