BEGIN:VCALENDAR
VERSION:2.0
PRODID:-//ChamberMaster//Event Calendar 2.0//EN
METHOD:PUBLISH
X-PUBLISHED-TTL:P3D
REFRESH-INTERVAL:P3D
CALSCALE:GREGORIAN
BEGIN:VEVENT
DTSTART;VALUE=DATE:20230626
DTEND;VALUE=DATE:20230627
TRANSP:TRANSPARENT
X-MICROSOFT-CDO-ALLDAYEVENT:TRUE
SUMMARY:Ribbon Cutting - Empirical Wellness Center
DESCRIPTION:Please join us for a Ribbon Cutting to celebrate the Grand Opening for Empirical Wellness Center on Monday\, June 26 at 10:00 a.m. Additional event details are included below. Please RSVP by registering for this event to ensure an accurate headcount for our host.
X-ALT-DESC;FMTTYPE=text/html:<span style="font-family:open sans\,sans-serif\;">Please join us for a Ribbon Cutting to celebrate the Grand Opening for <strong>Empirical Wellness Center </strong>on Monday\, June 26 at 10:00 a.m. Additional event details are included below. Please RSVP by registering for this event to ensure an accurate headcount for our host.</span><br />\n&nbsp\;<br />\n<br />\n&nbsp\;
LOCATION:Empirical Wellness Center 2929 Crouse Lane Suite 3 Burlington\, NC 27215
UID:e.1268.2610
SEQUENCE:3
DTSTAMP:20260422T173928Z
URL:https://members.alamancechamber.com/events/details/ribbon-cutting-empirical-wellness-center-2610
END:VEVENT

END:VCALENDAR
