BEGIN:VCALENDAR
VERSION:2.0
PRODID:-//ChamberMaster//Event Calendar 2.0//EN
METHOD:PUBLISH
X-PUBLISHED-TTL:P3D
REFRESH-INTERVAL:P3D
CALSCALE:GREGORIAN
BEGIN:VEVENT
DTSTART:20191001T200000Z
DTEND:20191001T210000Z
X-MICROSOFT-CDO-ALLDAYEVENT:FALSE
SUMMARY:Ribbon Cutting: Elon Elementary School (Alamance-Burlington School System)
DESCRIPTION:Please join us as we celebrate the Official Ribbon Cutting for the new Elon Elementary School on Tuesday\, October 1st at 4:00 p.m.\n\n\n\nAttendees will have the opportunity to tour the school immediately following the ribbon cutting ceremony. If you plan to attend\, please register through this page.
X-ALT-DESC;FMTTYPE=text/html:Please join us as we celebrate the Official Ribbon Cutting for the new Elon Elementary School on Tuesday\, October 1st at 4:00 p.m.<br />\n<br />\nAttendees will have the opportunity to tour the school immediately following the ribbon cutting ceremony. If you plan to attend\, please register through this page.<br />\n&nbsp\;
LOCATION:Elon Elementary School 720 Walker Road Elon\, NC 27244
UID:e.1268.2417
SEQUENCE:3
DTSTAMP:20260425T160823Z
URL:https://members.alamancechamber.com/events/details/ribbon-cutting-elon-elementary-school-alamance-burlington-school-system-2417
END:VEVENT

END:VCALENDAR
