BEGIN:VCALENDAR
VERSION:2.0
PRODID:-//ChamberMaster//Event Calendar 2.0//EN
METHOD:PUBLISH
X-PUBLISHED-TTL:P3D
REFRESH-INTERVAL:P3D
CALSCALE:GREGORIAN
BEGIN:VEVENT
DTSTART:20230505T190000Z
DTEND:20230505T200000Z
X-MICROSOFT-CDO-ALLDAYEVENT:FALSE
SUMMARY:Ribbon Cutting: Burbrella Learning Academy\, LLC
DESCRIPTION:Please join us for a Ribbon Cutting to celebrate the Grand Opening of Burbrella Learning Academy\, Inc. on Friday\, May 5 at 3:00 p.m. Additional event details are included below.
X-ALT-DESC;FMTTYPE=text/html:<span style="font-family:open sans\,sans-serif\;"><span style="font-size:11.0pt\;">Please join us for a Ribbon Cutting to celebrate the Grand Opening of <strong>Burbrella Learning Academy\, Inc. </strong>on Friday\, May 5 at 3:00 p.m. Additional event details are included below.</span></span>
LOCATION:Burbrella Learning Academy 309 Huffman Mill Road Suite 140 Burlington\, NC 27215 (Holly Hill Mall)
UID:e.1268.2600
SEQUENCE:3
DTSTAMP:20260422T192524Z
URL:https://members.alamancechamber.com/events/details/ribbon-cutting-burbrella-learning-academy-llc-2600
END:VEVENT

END:VCALENDAR
