BEGIN:VCALENDAR
VERSION:2.0
PRODID:-//ChamberMaster//Event Calendar 2.0//EN
METHOD:PUBLISH
X-PUBLISHED-TTL:P3D
REFRESH-INTERVAL:P3D
CALSCALE:GREGORIAN
BEGIN:VEVENT
DTSTART:20191004T153000Z
DTEND:20191004T160000Z
X-MICROSOFT-CDO-ALLDAYEVENT:FALSE
SUMMARY:Ribbon Cutting: All About Roofing Co.\, LLC
DESCRIPTION:Join us for a Ribbon Cutting celebrating the Grand Re-Opening of All About Roofing Co.\, LLC on Friday\, October 4 at 11:30 a.m.!
X-ALT-DESC;FMTTYPE=text/html:Join us for a Ribbon Cutting celebrating the Grand Re-Opening of All About Roofing Co.\, LLC on Friday\, October 4 at 11:30 a.m.!
LOCATION:All About Roofing Co.\, LLC 1761 W Webb Avenue\, Burlington
UID:e.1268.2416
SEQUENCE:3
DTSTAMP:20260425T144205Z
URL:https://members.alamancechamber.com/events/details/ribbon-cutting-all-about-roofing-co-llc-2416
END:VEVENT

END:VCALENDAR
