BEGIN:VCALENDAR
VERSION:2.0
PRODID:-//ChamberMaster//Event Calendar 2.0//EN
METHOD:PUBLISH
X-PUBLISHED-TTL:P3D
REFRESH-INTERVAL:P3D
CALSCALE:GREGORIAN
BEGIN:VEVENT
DTSTART:20260813T130000Z
DTEND:20260813T220000Z
X-MICROSOFT-CDO-ALLDAYEVENT:FALSE
SUMMARY:Momentum! Small Business Resource Fair
DESCRIPTION:Are you an entrepreneur\, small business owner\, or thinking about starting your own business?\n\n\n\nJoin us for our upcoming Momentum! Small Business Resource Fair\, a one-stop opportunity to connect\, learn\, and grow! Whether you're just getting started or looking to take your business to the next level\, this event is designed with you in mind. Explore valuable workshops\, meet one-on-one with professionals in legal\, accounting\, marketing\, banking\, and more\, and build meaningful connections with fellow entrepreneurs.\n\n\n\nBest of all\, it's completely free to attend! Be sure to register in advance and if you sign up by August 7th\, you'll be entered to win exciting door prizes featuring valuable business tools and services.\n\n\n\nDon't miss this chance to invest in your success!\n\n\n\nNote: This event is open to all entrepreneurs\, small business owners\, and those thinking about starting a business. Attendees are NOT required to be Alamance Chamber members (investors).
X-ALT-DESC;FMTTYPE=text/html:<span style="color:#0000CD\;"><span style="font-size:18px\;"><strong><em>Are you an entrepreneur\, small business owner\, or thinking about starting your own business?</em></strong></span></span><br />\n<br />\nJoin us for our upcoming <strong>Momentum!&nbsp\;</strong><strong data-end="259" data-start="227">Small Business Resource Fair</strong>\, a one-stop opportunity to connect\, learn\, and grow! Whether you&rsquo\;re just getting started or looking to take your business to the next level\, this event is designed with you in mind. Explore valuable workshops\, meet one-on-one with professionals in legal\, accounting\, marketing\, banking\, and more\, and build meaningful connections with fellow entrepreneurs.<br />\n<br />\nBest of all\, it&rsquo\;s completely free to attend! Be sure to register in advance&mdash\;and if you sign up by <strong data-end="729" data-start="715">August 7th</strong>\, you&rsquo\;ll be entered to win exciting door prizes featuring valuable business tools and services.<br />\n<br />\nDon&rsquo\;t miss this chance to invest in your success!<br />\n<br />\n<span style="color:#0000CD\;"><strong>Note: This event is open to all entrepreneurs\, small business owners\, and those thinking about starting a business. Attendees are NOT required to be Alamance Chamber members (investors).&nbsp\;</strong></span>
LOCATION:Inside Holly Hill Mall - Burlington\, NC 309 Huffman Mill Road
UID:e.1268.2816
SEQUENCE:3
DTSTAMP:20260422T220148Z
URL:https://members.alamancechamber.com/events/details/momentum-small-business-resource-fair-2816
END:VEVENT

END:VCALENDAR
