BEGIN:VCALENDAR
VERSION:2.0
PRODID:-//ChamberMaster//Event Calendar 2.0//EN
METHOD:PUBLISH
X-PUBLISHED-TTL:P3D
REFRESH-INTERVAL:P3D
CALSCALE:GREGORIAN
BEGIN:VEVENT
DTSTART:20191114T130000Z
DTEND:20191114T220000Z
X-MICROSOFT-CDO-ALLDAYEVENT:FALSE
SUMMARY:LA Class of 2020 Health and Human Services Day
DESCRIPTION:
X-ALT-DESC;FMTTYPE=text/html:
LOCATION:
UID:e.1268.2412
SEQUENCE:3
DTSTAMP:20260425T161002Z
URL:https://members.alamancechamber.com/events/details/la-class-of-2020-health-and-human-services-day-2412
END:VEVENT

END:VCALENDAR
