BEGIN:VCALENDAR
VERSION:2.0
PRODID:-//ChamberMaster//Event Calendar 2.0//EN
METHOD:PUBLISH
X-PUBLISHED-TTL:P3D
REFRESH-INTERVAL:P3D
CALSCALE:GREGORIAN
BEGIN:VEVENT
DTSTART:20200116T130000Z
DTEND:20200116T220000Z
X-MICROSOFT-CDO-ALLDAYEVENT:FALSE
SUMMARY:LA Class of 2020 Government Day
DESCRIPTION:
X-ALT-DESC;FMTTYPE=text/html:
LOCATION:
UID:e.1268.2426
SEQUENCE:3
DTSTAMP:20260425T153304Z
URL:https://members.alamancechamber.com/events/details/la-class-of-2020-government-day-2426
END:VEVENT

END:VCALENDAR
