BEGIN:VCALENDAR
VERSION:2.0
PRODID:-//ChamberMaster//Event Calendar 2.0//EN
METHOD:PUBLISH
X-PUBLISHED-TTL:P3D
REFRESH-INTERVAL:P3D
CALSCALE:GREGORIAN
BEGIN:VEVENT
DTSTART:20191219T130000Z
DTEND:20191219T220000Z
X-MICROSOFT-CDO-ALLDAYEVENT:FALSE
SUMMARY:LA Class of 2020 Economic Development Day
DESCRIPTION:
X-ALT-DESC;FMTTYPE=text/html:
LOCATION:
UID:e.1268.2413
SEQUENCE:3
DTSTAMP:20260425T174805Z
URL:https://members.alamancechamber.com/events/details/la-class-of-2020-economic-development-day-2413
END:VEVENT

END:VCALENDAR
