BEGIN:VCALENDAR
VERSION:2.0
PRODID:-//ChamberMaster//Event Calendar 2.0//EN
METHOD:PUBLISH
X-PUBLISHED-TTL:P3D
REFRESH-INTERVAL:P3D
CALSCALE:GREGORIAN
BEGIN:VEVENT
DTSTART:20191017T120000Z
DTEND:20191017T210000Z
X-MICROSOFT-CDO-ALLDAYEVENT:FALSE
SUMMARY:LA Class of 2020 Agriculture Day
DESCRIPTION:
X-ALT-DESC;FMTTYPE=text/html:
LOCATION:
UID:e.1268.2410
SEQUENCE:3
DTSTAMP:20260425T160823Z
URL:https://members.alamancechamber.com/events/details/la-class-of-2020-agriculture-day-2410
END:VEVENT

END:VCALENDAR
