BEGIN:VCALENDAR
VERSION:2.0
PRODID:-//ChamberMaster//Event Calendar 2.0//EN
METHOD:PUBLISH
X-PUBLISHED-TTL:P3D
REFRESH-INTERVAL:P3D
CALSCALE:GREGORIAN
BEGIN:VEVENT
DTSTART:20191106T170000Z
DTEND:20191106T180000Z
X-MICROSOFT-CDO-ALLDAYEVENT:FALSE
SUMMARY:Groundbreaking: D.R. Horton - Cambridge Park Community
DESCRIPTION:Join us for a Groundbreaking Ceremony on Wednesday\, November 6 at 12:00 p.m. to celebrate D.R. Horton's new community - Cambridge Park in Mebane. In addition to the groundbreaking ceremony\, D.R. Horton will also have a food truck on site serving lunch\, giveaways and music! We hope you will make plans to join us for the celebration!
X-ALT-DESC;FMTTYPE=text/html:Join us for a Groundbreaking Ceremony on Wednesday\, November 6 at 12:00 p.m. to celebrate D.R. Horton&#39\;s new community - Cambridge Park in Mebane. In addition to the groundbreaking ceremony\, D.R. Horton will also have a food truck on site serving lunch\, giveaways and music! We hope you will make plans to join us for the celebration!<br />\n&nbsp\;
LOCATION:D.R. Horton Cambridge Park Jones Drive.\, Mebane\, NC 27302 * Please note\, this community does not have an official address yet\, but the location will be right before 1941 Jones Road in Mebane. Flags and signage will be placed to help direct you to the groundbreaking event.
UID:e.1268.2422
SEQUENCE:3
DTSTAMP:20260425T160823Z
URL:https://members.alamancechamber.com/events/details/groundbreaking-d-r-horton-cambridge-park-community-2422
END:VEVENT

END:VCALENDAR
