BEGIN:VCALENDAR
VERSION:2.0
PRODID:-//ChamberMaster//Event Calendar 2.0//EN
METHOD:PUBLISH
X-PUBLISHED-TTL:P3D
REFRESH-INTERVAL:P3D
CALSCALE:GREGORIAN
BEGIN:VEVENT
DTSTART:20230622T153000Z
DTEND:20230622T170000Z
X-MICROSOFT-CDO-ALLDAYEVENT:FALSE
SUMMARY:Education & Workforce Council June 2023
DESCRIPTION:Join us in June to learn how our public education sector bridges the gaps between school and the workplace.  Speaking in June will be Robin Bowers and Lindsey Criss of the Alamance Burlington School System's Career & Technical Education department. They will share about what ABSS CTE means to students\, how it prepares them for successful outcomes\, and the types of connections possible that businesses and industries can make with students.\n\n\n\nRegistration is required to ensure lunch is provided.\n\n\n\n\n\nA new council for the Chamber in 2023\, the Education & Workforce Council seeks to serve Alamance County's public and private education partners\, industries and businesses of all sizes\, and workforce development professionals to ensure a well-connected and cohesive group focused on bettering the workforce pipeline in our community.
X-ALT-DESC;FMTTYPE=text/html:<span style="color: rgb(75\, 79\, 84)\; font-family: &quot\;museo sans&quot\;\, sans-serif\; font-size: 15px\;">Join us in June to learn how our public education sector <strong>bridges the gaps</strong>&nbsp\;between school and the workplace.&nbsp\; Speaking in June will be Robin Bowers and Lindsey Criss of the Alamance Burlington School System&#39\;s Career &amp\; Technical Education department. They will share about what ABSS CTE means to students\, how it prepares them for successful outcomes\, and the types of connections possible that businesses and industries can make with students.</span><br />\n<br />\n<span style="color: rgb(75\, 79\, 84)\; font-family: &quot\;museo sans&quot\;\, sans-serif\; font-size: 15px\;">Registration is required to ensure lunch is provided.<br />\n<br />\n<br />\nA new council for the Chamber in 2023\, the Education &amp\; Workforce Council seeks to serve Alamance County&#39\;s public and private education partners\,&nbsp\;industries and businesses of all sizes\, and workforce development professionals to ensure a well-connected and cohesive group focused on bettering the workforce pipeline in our community.</span>
LOCATION:Burlington City Park Carousel Event Room 1388 S Main St\, Burlington\, NC 27215 Parking is available at the city's park amusement area parking lot\, located on S Main street. Meeting will be in the Carousel House event room.
UID:e.1268.2603
SEQUENCE:3
DTSTAMP:20260422T175748Z
URL:https://members.alamancechamber.com/events/details/education-workforce-council-june-2023-2603
END:VEVENT

END:VCALENDAR
