BEGIN:VCALENDAR
VERSION:2.0
PRODID:-//ChamberMaster//Event Calendar 2.0//EN
METHOD:PUBLISH
X-PUBLISHED-TTL:P3D
REFRESH-INTERVAL:P3D
CALSCALE:GREGORIAN
BEGIN:VEVENT
DTSTART:20200123T170000Z
DTEND:20200123T180000Z
X-MICROSOFT-CDO-ALLDAYEVENT:FALSE
SUMMARY:Education Council
DESCRIPTION:
X-ALT-DESC;FMTTYPE=text/html:
LOCATION:
UID:e.1268.2427
SEQUENCE:3
DTSTAMP:20260425T153059Z
URL:https://members.alamancechamber.com/events/details/education-council-2427
END:VEVENT

END:VCALENDAR
