BEGIN:VCALENDAR
VERSION:2.0
PRODID:-//ChamberMaster//Event Calendar 2.0//EN
METHOD:PUBLISH
X-PUBLISHED-TTL:P3D
REFRESH-INTERVAL:P3D
CALSCALE:GREGORIAN
BEGIN:VEVENT
DTSTART:20230620T213000Z
DTEND:20230620T230000Z
X-MICROSOFT-CDO-ALLDAYEVENT:FALSE
SUMMARY:Chamber Travel Orientation Session - Vietnam 2024
DESCRIPTION:EXPLORE VIETNAM WITH THE CHAMBER!\n\nChamber Travel is BACK! Join us to learn more about our upcoming trip to Vietnam at the Travel Orientation.\n\n\n\nTRIP DATES: March 2 -11\, 2024\n\n10-Day Package Starting at $2\,499 \n\n*Price includes roundtrip international airfare & Vietnamese domesitc airfare (tax included)\, 4 & 5 star hotel accomodations\, 3 meals per day\, deluxe bus tours\, fluent english-speaking tour guides and entrance fees to all attractions!\n\n\n\nTo learn more about this opportunity\, join us for the Travel Orientation. This will be an opportunity to learn about the itinerary\, and ask any questions you may have.
X-ALT-DESC;FMTTYPE=text/html:<span style="font-size:18px\;"><strong>EXPLORE VIETNAM WITH THE CHAMBER!</strong></span><br />\nChamber Travel is BACK! Join us to learn more about our upcoming trip to Vietnam at the Travel Orientation.<br />\n<br />\n<strong>TRIP DATES: March 2 -11\, 2024<br />\n10-Day Package Starting at $2\,499 </strong><br />\n<em>*Price includes roundtrip international airfare &amp\; Vietnamese domesitc airfare (tax included)\, 4 &amp\; 5 star hotel accomodations\, 3 meals per day\, deluxe bus tours\, fluent english-speaking tour guides and entrance fees to all attractions!</em><br />\n<br />\nTo learn more about this opportunity\, join us for the Travel Orientation. This will be an opportunity to learn about the itinerary\, and ask any questions you may have.
LOCATION:Alamance Chamber 610 S. Lexington Ave. Burlington\, NC 27215
UID:e.1268.2601
SEQUENCE:3
DTSTAMP:20260422T192956Z
URL:https://members.alamancechamber.com/events/details/chamber-travel-orientation-session-vietnam-2024-2601
END:VEVENT

END:VCALENDAR
