BEGIN:VCALENDAR
VERSION:2.0
PRODID:-//ChamberMaster//Event Calendar 2.0//EN
METHOD:PUBLISH
X-PUBLISHED-TTL:P3D
REFRESH-INTERVAL:P3D
CALSCALE:GREGORIAN
BEGIN:VEVENT
DTSTART;VALUE=DATE:20230703
DTEND;VALUE=DATE:20230708
TRANSP:TRANSPARENT
X-MICROSOFT-CDO-ALLDAYEVENT:TRUE
SUMMARY:Chamber Office Closed
DESCRIPTION:As we look forward to the second half of the year\, the Alamance Chamber office will be closed July 3 - 7 to reset and recharge. We look forward to continuing to drive progress and build our thriving business community. \n\n\n\n\n\n\nFor general information\, please visit alamancechamber.com. To leave a message with a team member\, call (336) 228-1338.
X-ALT-DESC;FMTTYPE=text/html:<div dir="auto" style="text-align: start\;"><span class="x193iq5w xeuugli x13faqbe x1vvkbs x1xmvt09 x1lliihq x1s928wv xhkezso x1gmr53x x1cpjm7i x1fgarty x1943h6x xudqn12 x3x7a5m x6prxxf xvq8zen xo1l8bm xzsf02u x1yc453h" dir="auto">As we look forward to the second half of the year\, the Alamance Chamber office will be closed July 3 - 7 to reset and recharge. We look forward to continuing to drive progress and build our thriving business community. </span></div>\n\n<div dir="auto">\n<div class="x1iorvi4 x1pi30zi x1l90r2v x1swvt13" data-ad-comet-preview="message" data-ad-preview="message" id=":rpo:">\n<div class="x78zum5 xdt5ytf xz62fqu x16ldp7u">\n<div class="xu06os2 x1ok221b">\n<div class="x11i5rnm xat24cr x1mh8g0r x1vvkbs xtlvy1s x126k92a">\n<div dir="auto" style="text-align: start\;"><span class="x193iq5w xeuugli x13faqbe x1vvkbs x1xmvt09 x1lliihq x1s928wv xhkezso x1gmr53x x1cpjm7i x1fgarty x1943h6x xudqn12 x3x7a5m x6prxxf xvq8zen xo1l8bm xzsf02u x1yc453h" dir="auto">For general information\, please visit <span><a class="x1i10hfl xjbqb8w x6umtig x1b1mbwd xaqea5y xav7gou x9f619 x1ypdohk xt0psk2 xe8uvvx xdj266r x11i5rnm xat24cr x1mh8g0r xexx8yu x4uap5 x18d9i69 xkhd6sd x16tdsg8 x1hl2dhg xggy1nq x1a2a7pz xt0b8zv x1fey0fg" href="https://l.facebook.com/l.php?u=http%3A%2F%2Falamancechamber.com%2F%3Ffbclid%3DIwAR2VrZSLpeTbdMiRfEgEfwir3WtRlOH1DNt_ejY6slZ4JmbbIIXsP2DWdYQ&amp\;h=AT2GLPFKlRuRek-c2HsKyYC9r2HvwTdFOUWcCDNM1r-3K0k2PgbuObW8ZpJiWSuKvCSXSqU_GOvL-_oOmnLN0ZUK3nx1mFeZLvOA0lwSJumlwHov6nUsxUP5Xcd1SOIFGg&amp\;__tn__=-UK-R&amp\;c[0]=AT24xu879uk4Q8ZdvXsWqQ-T8JLIubt18t2JXqVaE1TZIWA0aZgVbrYngQ2qoxBmW8dmjsQ9F3hWo7OmuGHCaRFmL2kEFW7Gp6uFGoWTEu_hEbobv8CU0V9CpNGYhZQQr8qrQrLF_kUuJOqtBjXl4TGPe2DBcw" rel="nofollow noreferrer" role="link" tabindex="0" target="_blank">alamancechamber.com.</a></span> To leave a message with a team member\, call (336) 228-1338.</span></div>\n</div>\n</div>\n</div>\n</div>\n</div>\n
LOCATION:
UID:e.1268.2611
SEQUENCE:3
DTSTAMP:20260422T155730Z
URL:https://members.alamancechamber.com/events/details/chamber-office-closed-2611
END:VEVENT

END:VCALENDAR
