BEGIN:VCALENDAR
VERSION:2.0
PRODID:-//ChamberMaster//Event Calendar 2.0//EN
METHOD:PUBLISH
X-PUBLISHED-TTL:P3D
REFRESH-INTERVAL:P3D
CALSCALE:GREGORIAN
BEGIN:VEVENT
DTSTART:20191211T133000Z
DTEND:20191211T143000Z
X-MICROSOFT-CDO-ALLDAYEVENT:FALSE
SUMMARY:CANCELLED - Workforce Council
DESCRIPTION:The December 11 Workforce Council meeting has been canceled due to an NC Works Employer Breakfast scheduled on December 10. Next meeting will be February 12\, 2020.\n\n\n\nAlamance Chamber Workforce Council provides a forum for local companies\, educational institutions\, and workforce development resources to address business-driven issues surrounding local and regional workforce development.
X-ALT-DESC;FMTTYPE=text/html:<span style="color: rgb(75\, 79\, 84)\; font-family: 'museo sans'\, sans-serif\; font-size: 15px\; background-color: rgb(255\, 255\, 255)\;">The December 11 Workforce Council meeting has been canceled due to an NC Works Employer Breakfast scheduled on December 10. Next meeting will be February 12\, 2020.<br />\n<br />\nAlamance Chamber Workforce Council provides a forum for local companies\, educational institutions\, and workforce development resources to address business-driven issues surrounding local and regional workforce development.</span>
LOCATION:Alamance Chamber 610 S. Lexington Ave. Burlington\, NC 27215
UID:e.1268.2352
SEQUENCE:3
DTSTAMP:20260425T170539Z
URL:https://members.alamancechamber.com/events/details/cancelled-workforce-council-2352
END:VEVENT

END:VCALENDAR
