BEGIN:VCALENDAR
VERSION:2.0
PRODID:-//ChamberMaster//Event Calendar 2.0//EN
METHOD:PUBLISH
X-PUBLISHED-TTL:P3D
REFRESH-INTERVAL:P3D
CALSCALE:GREGORIAN
BEGIN:VEVENT
DTSTART:20191029T210000Z
DTEND:20191029T223000Z
X-MICROSOFT-CDO-ALLDAYEVENT:FALSE
SUMMARY:Business After Hours
DESCRIPTION:Business After Hours is a monthly networking opportunity hosted at a Chamber Member business. This event is a great way to meet business professionals from Alamance County & surrounding areas!\n\n\n\nAttendees will participate in an interactive networking activity and will enjoy complimentary food\, beverages\, and door prizes!  Don't forget your business cards!
X-ALT-DESC;FMTTYPE=text/html:Business After Hours is a monthly networking opportunity hosted at a Chamber Member business. This event is a great way to meet business professionals from Alamance County &amp\; surrounding areas!<br />\n<br />\nAttendees will participate in an interactive networking activity and will enjoy complimentary food\, beverages\, and door prizes!&nbsp\; Don&#39\;t forget your business cards!
LOCATION:Elon University\, Snow Family Grand Atrium Dwight C. Schar Hall\, School of Communications 123 North Williamson Ave\, Elon\, NC 27244 Download the Parking Map & Instructions here.
UID:e.1268.2068
SEQUENCE:3
DTSTAMP:20260425T144238Z
URL:https://members.alamancechamber.com/events/details/businses-after-hours-10-29-2019-2068
END:VEVENT

END:VCALENDAR
