BEGIN:VCALENDAR
VERSION:2.0
PRODID:-//ChamberMaster//Event Calendar 2.0//EN
METHOD:PUBLISH
X-PUBLISHED-TTL:P3D
REFRESH-INTERVAL:P3D
CALSCALE:GREGORIAN
BEGIN:VEVENT
DTSTART:20230720T230000Z
DTEND:20230721T020000Z
X-MICROSOFT-CDO-ALLDAYEVENT:FALSE
SUMMARY:Business At the Ballpark
DESCRIPTION:Join us for a (THIRSTY THURSDAY) night of networking\, intentional connections\, family fun and baseball at our annual Business At the Ballpark with the Burlington Sock Puppets. Chamber Investors will receive 4 tickets in the mail for the game\, and are invited to join us at the new right field area that evening.\n\n\n\nGates will open at 5:30\, followed by networking and the game beginning at 7 p.m. If you would like to request additional tickets\, contact the Chamber. Please note\, additional tickets are not guaranteed.\n\n\n\nBusiness At The Ballpark 2023 is presented by BOBBITT!
X-ALT-DESC;FMTTYPE=text/html:Join us for a (THIRSTY THURSDAY) night of networking\, intentional connections\, family fun and baseball at our annual Business At the Ballpark with the Burlington Sock Puppets. Chamber Investors will receive 4 tickets in the mail for the game\, and are invited to join us at the new right field area that evening.<br />\n<br />\nGates will open at 5:30\, followed by networking and the game beginning at 7 p.m. If you would like to request additional tickets\, contact the Chamber. Please note\, additional tickets are not guaranteed.<br />\n<br />\n<strong>Business At The Ballpark 2023 is presented by BOBBITT!</strong><br />\n<br />\n&nbsp\;
LOCATION:Burlington Athletic Stadium 1450 Graham St\, Burlington\, NC 27217
UID:e.1268.2612
SEQUENCE:3
DTSTAMP:20260422T155906Z
URL:https://members.alamancechamber.com/events/details/business-at-the-ballpark-2612
END:VEVENT

END:VCALENDAR
