BEGIN:VCALENDAR
VERSION:2.0
PRODID:-//ChamberMaster//Event Calendar 2.0//EN
METHOD:PUBLISH
X-PUBLISHED-TTL:P3D
REFRESH-INTERVAL:P3D
CALSCALE:GREGORIAN
BEGIN:VEVENT
DTSTART:20200128T223000Z
DTEND:20200129T010000Z
X-MICROSOFT-CDO-ALLDAYEVENT:FALSE
SUMMARY:Annual Meeting
DESCRIPTION:We're excited to announce Jamie Valvano\, Writer\, Teacher\, Cancer Survivor and Advocate as our Keynote Speaker for this year's Annual Meeting.\n\n\n\nAbout our Keynote Speaker: Jamie Valvano\n\n"An Extraordinary Life"\n\nAs the middle daughter of legendary basketball coach Jim Valvano\, Jamie has witnessed amazing victory and heartbreaking tragedy. Although much of her father's life story has been made public\, Jamie continues to share private and personal insights to a variety of audiences in her role as a public speaker. She uses her voice as a cancer advocate\, teacher\, and writer always pushing others to embrace their personal vision. She currently resides in Apex\, North Carolina with her two sons. \n\nAnnual Meeting Sponsorship Opportunities:\n\nSponsorship opportunities are now available for the 2020 Annual Meeting. Follow the link below to reserve your sponsorship level.\n\n\n	Annual Meeting Sponsorship Opportunities\n\nThank you to our 2020 Annual Meeting Sponsors\n\nPresenting Sponsor:\n\nDuke Energy\n\n\n\nPlatinum Sponsors: \n\nChandler Concrete Co.\, Inc.\n\nCone Health\n\nGlen Raven\, Inc.\n\nLabCorp\n\n\n\nGold Sponsors:\n\nTruliant Federal Credit Union\n\n\n\nSilver Sponsors:\n\nAll About Roofing Co.\, LLC\, American National Bank & Trust\, Hampton Inn & Suites and Tru by Hilton (Burlington)\, The Alliance\, Sheetz
X-ALT-DESC;FMTTYPE=text/html:<p>We&#39\;re excited to announce <strong>Jamie Valvano</strong>\, <em>Writer\, Teacher\, Cancer Survivor and Advocate</em> as our Keynote Speaker for this year&#39\;s Annual Meeting.<br />\n<br />\n<strong>About our Keynote Speaker: Jamie Valvano<br />\n<em>&quot\;An Extraordinary Life&quot\;</em></strong><br />\n<span style="font-size: 14px\;">As the middle daughter of legendary basketball coach Jim Valvano\, Jamie has witnessed amazing victory and heartbreaking tragedy. Although much of her father&rsquo\;s life story has been made public\, Jamie continues to share private and personal insights to a variety of audiences in her role as a public speaker.&nbsp\;She uses her voice as a cancer advocate\, teacher\, and writer always pushing others to embrace their personal vision. She currently resides in Apex\, North Carolina with her two sons.&nbsp\;</span></p>\n\n<p><strong>Annual Meeting Sponsorship Opportunities:</strong><br />\nSponsorship opportunities are now available for the 2020 Annual Meeting. Follow the link below to reserve your sponsorship level.</p>\n\n<ul>\n	<li><a href="http://www.alamancechamber.com/annual-meeting-sponsorship-opportunities/">Annual Meeting Sponsorship Opportunities</a></li>\n</ul>\n<strong><span style="font-size: 20px\;"><u>Thank you to our 2020 Annual Meeting Sponsors</u></span></strong><br />\n<strong><span style="font-size: 16px\;">Presenting Sponsor:</span></strong><br />\n<span style="font-size: 16px\;">Duke Energy</span><br />\n<br />\n<strong><span style="font-size: 14px\;">Platinum Sponsors: </span></strong><br />\n<span style="font-size: 14px\;">Chandler Concrete Co.\, Inc.<br />\nCone Health<br />\nGlen Raven\, Inc.<br />\nLabCorp</span><br />\n<br />\n<strong><span style="font-size: 12px\;">Gold Sponsors:</span></strong><br />\n<span style="font-size: 12px\;">Truliant Federal Credit Union</span><br />\n<br />\n<strong><span style="font-size: 11px\;">Silver Sponsors:</span></strong><br />\n<span style="font-size: 11px\;">All About Roofing Co.\, LLC\, American National Bank &amp\; Trust\, Hampton Inn &amp\; Suites and Tru by Hilton (Burlington)\, The Alliance\, Sheetz</span>
LOCATION:Alliance Convention Center: Inspiration Hall
UID:e.1268.2419
SEQUENCE:3
DTSTAMP:20260425T153114Z
URL:https://members.alamancechamber.com/events/details/annual-meeting-2419
END:VEVENT

END:VCALENDAR
