BEGIN:VCALENDAR
VERSION:2.0
PRODID:-//ChamberMaster//Event Calendar 2.0//EN
METHOD:PUBLISH
X-PUBLISHED-TTL:P3D
REFRESH-INTERVAL:P3D
CALSCALE:GREGORIAN
BEGIN:VEVENT
DTSTART:20230519T130000Z
DTEND:20230519T190000Z
X-MICROSOFT-CDO-ALLDAYEVENT:FALSE
SUMMARY:Annual Golf Tournament
DESCRIPTION:SOLD OUT!\n\n\n\nJoin us for our Annual Golf Tournament. presented by the Burlington Sock Puppets on Friday\, May 19th at Mill Creek Golf Club! The tournament will be Captain's Choice with a 9 am shotgun start. Following the tournament\, participants are invited to stay for the Awards & Networking Luncheon. ALL SKILL LEVELS WELCOME!!\n\n\n\n2023 SPONSORS TO DATE:\n\n	Presenting Sponsor: Burlington Sock Puppets\n	Tournament Partner: Edward Jones - Rachel Baldwin\n	Luncheon Sponsor: Piedmont Natural Gas\n	Beverage Cart Sponsors: Jennings Bryan-Chappell Insurance & Convergence Technologies\n	Marketing Partner: Maverick Radio & Hope Radio\n	19th Hole Sponsor: Bobbitt Construction\n	Breakfast Sponsor: Chickfila (Mebane)\n	Putting Contest Sponsor: Carolina Custom Promotions\n	Beverage Sponsor: RH Barringer & Coca Cola\n\n\n\nTee Sponsors:\n\n\n	Labcorp\n	Glen Raven\, Inc.\n	Myrick Construction\n	Prime Personnel Resources\, Inc.\n	Truliant Federal Credit Union\n	First National Bank\n	Samet Corporation\n	Gilliam Bell Moser\, LLP\n	Suntamers Window Tinting\n\n\n\nGreen Sponsors:\n\n\n	Carolina Custom Promotions\n	Burke Manor Inn & Pavilion\n	Myrick Construction\, Inc.\n	Alamance Arts
X-ALT-DESC;FMTTYPE=text/html:<strong><span style="font-size:26px\;"><span style="color:#FF0000\;">SOLD OUT!</span></span><br />\n<br />\nJoin us for our Annual Golf Tournament. presented by the Burlington Sock Puppets on Friday\, May 19th at Mill Creek Golf Club! The tournament will be Captain&#39\;s Choice with a 9 am shotgun start. Following the tournament\, participants are invited to stay for the Awards &amp\; Networking Luncheon. ALL SKILL LEVELS WELCOME!!<br />\n<br />\n<u>2023 SPONSORS TO DATE:</u></strong>\n<ul>\n	<li><strong>Presenting Sponsor:</strong> Burlington Sock Puppets</li>\n	<li><strong>Tournament Partner:</strong> Edward Jones - Rachel Baldwin</li>\n	<li><strong>Luncheon Sponsor: </strong>Piedmont Natural Gas</li>\n	<li><strong>Beverage Cart Sponsors:</strong> Jennings Bryan-Chappell Insurance &amp\; Convergence Technologies</li>\n	<li><strong>Marketing Partner:</strong> Maverick Radio &amp\; Hope Radio</li>\n	<li><strong>19th Hole Sponsor:</strong> Bobbitt Construction</li>\n	<li><strong>Breakfast Sponsor:</strong> Chickfila (Mebane)</li>\n	<li><strong>Putting Contest Sponsor:</strong> Carolina Custom Promotions</li>\n	<li><strong>Beverage Sponsor: </strong>RH Barringer &amp\; Coca Cola</li>\n</ul>\n<br />\n<strong>Tee Sponsors:</strong>\n\n<ul>\n	<li>Labcorp</li>\n	<li>Glen Raven\, Inc.</li>\n	<li>Myrick Construction</li>\n	<li>Prime Personnel Resources\, Inc.</li>\n	<li>Truliant Federal Credit Union</li>\n	<li>First National Bank</li>\n	<li>Samet Corporation</li>\n	<li>Gilliam Bell Moser\, LLP</li>\n	<li>Suntamers Window Tinting</li>\n</ul>\n<br />\n<strong>Green Sponsors:</strong>\n\n<ul>\n	<li>Carolina Custom Promotions</li>\n	<li>Burke Manor Inn &amp\; Pavilion</li>\n	<li>Myrick Construction\, Inc.</li>\n	<li>Alamance Arts</li>\n</ul>\n<br />\n<br />\n&nbsp\;
LOCATION:Mill Creek Golf Club 9 am shotgun start
UID:e.1268.2576
SEQUENCE:3
DTSTAMP:20260422T192336Z
URL:https://members.alamancechamber.com/events/details/annual-golf-tournament-2576
END:VEVENT

END:VCALENDAR
