BEGIN:VCALENDAR
VERSION:2.0
PRODID:-//ChamberMaster//Event Calendar 2.0//EN
METHOD:PUBLISH
X-PUBLISHED-TTL:P3D
REFRESH-INTERVAL:P3D
CALSCALE:GREGORIAN
BEGIN:VEVENT
DTSTART:20230501T213000Z
DTEND:20230501T230000Z
X-MICROSOFT-CDO-ALLDAYEVENT:FALSE
SUMMARY:Alamance Entrepreneurs Networking Reception
DESCRIPTION:It's National Small Business Week\, and we are celebrating what entrepreneurs bring to our community! Local entrepreneurs/small business owners are invited to join us for social networking and a special announcement just for Alamance small business owners. Advance registration is required.
X-ALT-DESC;FMTTYPE=text/html:It&#39\;s National Small Business Week\, and we are celebrating what entrepreneurs bring to our community! Local entrepreneurs/small business owners are invited to join us for social networking and a special announcement just for Alamance small business owners. Advance registration is required.&nbsp\;
LOCATION:Euphoria Wedding Chapel & Events 108-B N. Main Street Graham\, NC ***NOTE: This venue is located on the second floor of the building. Access is limited to stairs only\; no elevator is available. Please contact Stephanie Williams if you anticipate any issues accessing the venue.
UID:e.1268.2585
SEQUENCE:3
DTSTAMP:20260422T204635Z
URL:https://members.alamancechamber.com/events/details/alamance-entrepreneurs-networking-reception-2585
END:VEVENT

END:VCALENDAR
