BEGIN:VCALENDAR
VERSION:2.0
PRODID:-//ChamberMaster//Event Calendar 2.0//EN
METHOD:PUBLISH
X-PUBLISHED-TTL:P3D
REFRESH-INTERVAL:P3D
CALSCALE:GREGORIAN
BEGIN:VEVENT
DTSTART:20191017T200000Z
DTEND:20191017T223000Z
X-MICROSOFT-CDO-ALLDAYEVENT:FALSE
SUMMARY:14th Annual Economic Summit
DESCRIPTION:14th Annual Economic Summit: Innovation and Entrepreneurship in a Global Economy\n\nPresented by: Elon University Love School of Business\n\n\n\nThis year's program will feature a panel of local businesses providing different perspectives about innovating products and growing their companies. The panel will be moderated by Haya Ajjan\, Associate Professor at Elon University and Director of the Center of Organizational Analytics. Panelists will include: Douglas Calaway\, Owner of Your Local Greens\, Ian Baltutis\, Owner of Vibration Solution\, LLC\, and Lauren Birrittella\, Senior Curator and Color\, Material\, & Finish Specialist at Glen Raven\, Inc. Learn more about our panelists by clicking here.\n\n \n\nRegistration is now available at $50 per person. \n\n\n\nThe Alamance Chamber Economic Summit is an annual event which provides community leaders with the opportunity to gain information on the economic outlook for Alamance County\, and the region and state.
X-ALT-DESC;FMTTYPE=text/html:<p><span style="font-size: 14px\;"><span style="font-size: 18px\;"><span style="font-size: 14px\;"><strong><span style="color: rgb(82\, 86\, 87)\;"><span style="font-family: arial\,sans-serif\;">14th Annual Economic Summit:&nbsp\;Innovation and Entrepreneurship in a Global Economy</span></span></strong></span><br />\n<span style="font-size: 14px\;"><em><span style="color: rgb(82\, 86\, 87)\;"><span style="font-family: arial\,sans-serif\;">Presented by: Elon University Love School of Business</span></span></em></span></span><br />\n<br />\n<span style="color: rgb(82\, 86\, 87)\;"><span style="font-family: arial\,sans-serif\;">This year&#39\;s program will feature a panel of local businesses providing different perspectives about innovating products and growing their companies. The panel will be moderated by Haya Ajjan\, Associate Professor at Elon University and Director of the Center of Organizational Analytics. Panelists will include: Douglas Calaway\, Owner of Your Local Greens\, Ian Baltutis\, Owner of Vibration Solution\, LLC\, and Lauren Birrittella\, Senior Curator and Color\, Material\, &amp\; Finish Specialist&nbsp\;at Glen Raven\, Inc. Learn more about our panelists by <a href="https://conta.cc/2mB9SFs"><b>clicking here</b></a>.</span></span><br />\n&nbsp\;<br />\n<span style="color: rgb(82\, 86\, 87)\;"><span style="font-family: arial\,sans-serif\;">Registration is now available at $50 per person.&nbsp\;</span></span><br />\n<br />\n<em>The Alamance Chamber Economic Summit is an annual event which provides community leaders with the opportunity to gain information on the economic outlook for Alamance County\, and the region and state.</em></span></p>\n
LOCATION:Ernest A. Koury\, Sr. Business Center Elon University
UID:e.1268.2406
SEQUENCE:3
DTSTAMP:20260425T144103Z
URL:https://members.alamancechamber.com/events/details/14th-annual-economic-summit-2406
END:VEVENT

END:VCALENDAR
